BEGIN:VCALENDAR
VERSION:2.0
PRODID:icalendar-ruby
CALSCALE:GREGORIAN
METHOD:PUBLISH
BEGIN:VEVENT
DTSTAMP:20260425T231956Z
UID:5-408830@mapa.tithelysetup7.com
DTSTART:20261101T153000Z
DTEND:20261101T163000Z
CLASS:PUBLIC
CREATED:20260425T180345
DESCRIPTION:Sunday Worship
LAST-MODIFIED:20260425T180345
LOCATION:
SUMMARY:Sunday Worship
URL;VALUE=URI:https://mapa.tithelysetup7.com/events/sunday-worship/2026-11-
 01
END:VEVENT
END:VCALENDAR
