BEGIN:VCALENDAR
VERSION:2.0
PRODID:icalendar-ruby
CALSCALE:GREGORIAN
METHOD:PUBLISH
BEGIN:VEVENT
DTSTAMP:20260425T132326Z
UID:5-407780@mapa.tithelysetup7.com
DTSTART:20260920T143000Z
DTEND:20260920T153000Z
CLASS:PUBLIC
CREATED:20260425T071907
DESCRIPTION:Sunday Worship
LAST-MODIFIED:20260425T071907
LOCATION:
SUMMARY:Sunday Worship
URL;VALUE=URI:https://mapa.tithelysetup7.com/events/sunday-worship/2026-09-
 20
END:VEVENT
END:VCALENDAR
