BEGIN:VCALENDAR
VERSION:2.0
PRODID:icalendar-ruby
CALSCALE:GREGORIAN
METHOD:PUBLISH
BEGIN:VEVENT
DTSTAMP:20260425T032920Z
UID:5-407513@mapa.tithelysetup7.com
DTSTART:20260809T143000Z
DTEND:20260809T153000Z
CLASS:PUBLIC
CREATED:20260424T213141
DESCRIPTION:Sunday Worship
LAST-MODIFIED:20260424T213141
LOCATION:
SUMMARY:Sunday Worship
URL;VALUE=URI:https://mapa.tithelysetup7.com/events/sunday-worship/2026-08-
 09
END:VEVENT
END:VCALENDAR
