BEGIN:VCALENDAR
VERSION:2.0
PRODID:icalendar-ruby
CALSCALE:GREGORIAN
METHOD:PUBLISH
BEGIN:VEVENT
DTSTAMP:20260425T001833Z
UID:5-407250@mapa.tithelysetup7.com
DTSTART:20260726T143000Z
DTEND:20260726T153000Z
CLASS:PUBLIC
CREATED:20260424T184313
DESCRIPTION:Sunday Worship
LAST-MODIFIED:20260424T184313
LOCATION:
SUMMARY:Sunday Worship
URL;VALUE=URI:https://mapa.tithelysetup7.com/events/sunday-worship/2026-07-
 26
END:VEVENT
END:VCALENDAR
