BEGIN:VCALENDAR
VERSION:2.0
PRODID:icalendar-ruby
CALSCALE:GREGORIAN
METHOD:PUBLISH
BEGIN:VEVENT
DTSTAMP:20260424T175013Z
UID:5-406724@mapa.tithelysetup7.com
DTSTART:20260628T143000Z
DTEND:20260628T153000Z
CLASS:PUBLIC
CREATED:20260424T130840
DESCRIPTION:Sunday Worship
LAST-MODIFIED:20260424T130840
LOCATION:
SUMMARY:Sunday Worship
URL;VALUE=URI:https://mapa.tithelysetup7.com/events/sunday-worship/2026-06-
 28
END:VEVENT
END:VCALENDAR
